Package: scTensor Version: 2.18.2 Command: /home/biocbuild/R/R/bin/R CMD INSTALL scTensor StartedAt: 2025-10-13 21:07:21 -0000 (Mon, 13 Oct 2025) EndedAt: 2025-10-13 21:08:37 -0000 (Mon, 13 Oct 2025) EllapsedTime: 75.9 seconds RetCode: 0 Status: OK