Package: scTensor Version: 2.18.2 Command: /home/biocbuild/R/R/bin/R CMD build --keep-empty-dirs --no-resave-data scTensor StartedAt: 2025-10-14 04:34:43 -0000 (Tue, 14 Oct 2025) EndedAt: 2025-10-14 04:37:28 -0000 (Tue, 14 Oct 2025) EllapsedTime: 165.1 seconds RetCode: 0 Status: OK PackageFile: scTensor_2.18.2.tar.gz PackageFileSize: 10.42 MiB