Package: scTensor Version: 2.18.2 Command: /Library/Frameworks/R.framework/Resources/bin/R CMD INSTALL scTensor StartedAt: 2025-10-13 17:50:49 -0400 (Mon, 13 Oct 2025) EndedAt: 2025-10-13 17:51:53 -0400 (Mon, 13 Oct 2025) EllapsedTime: 64.5 seconds RetCode: 0 Status: OK