Package: scTensor Version: 2.18.2 Command: /Library/Frameworks/R.framework/Resources/bin/R CMD build --keep-empty-dirs --no-resave-data scTensor StartedAt: 2025-10-14 09:09:41 -0400 (Tue, 14 Oct 2025) EndedAt: 2025-10-14 09:12:15 -0400 (Tue, 14 Oct 2025) EllapsedTime: 154.0 seconds RetCode: 0 Status: OK PackageFile: scTensor_2.18.2.tar.gz PackageFileSize: 10.49 MiB