Package: scTHI Version: 1.20.0 Command: /home/biocbuild/R/R/bin/R CMD build --keep-empty-dirs --no-resave-data scTHI StartedAt: 2025-10-14 04:35:28 -0000 (Tue, 14 Oct 2025) EndedAt: 2025-10-14 04:37:20 -0000 (Tue, 14 Oct 2025) EllapsedTime: 112.1 seconds RetCode: 0 Status: OK PackageFile: scTHI_1.20.0.tar.gz PackageFileSize: 701.4 KiB