Package: scShapes Version: 1.14.0 Command: /home/biocbuild/bbs-3.21-bioc/R/bin/R CMD INSTALL scShapes StartedAt: 2025-10-15 15:04:58 -0400 (Wed, 15 Oct 2025) EndedAt: 2025-10-15 15:05:17 -0400 (Wed, 15 Oct 2025) EllapsedTime: 18.7 seconds RetCode: 0 Status: OK