Package: scShapes Version: 1.14.0 Command: /Library/Frameworks/R.framework/Resources/bin/R CMD INSTALL scShapes StartedAt: 2025-10-13 15:10:39 -0400 (Mon, 13 Oct 2025) EndedAt: 2025-10-13 15:11:04 -0400 (Mon, 13 Oct 2025) EllapsedTime: 24.8 seconds RetCode: 0 Status: OK