Package: scShapes Version: 1.14.0 Command: /Library/Frameworks/R.framework/Resources/bin/R CMD build --keep-empty-dirs --no-resave-data scShapes StartedAt: 2025-10-13 22:30:38 -0400 (Mon, 13 Oct 2025) EndedAt: 2025-10-13 22:34:16 -0400 (Mon, 13 Oct 2025) EllapsedTime: 217.4 seconds RetCode: 0 Status: OK PackageFile: scShapes_1.14.0.tar.gz PackageFileSize: 29.93 KiB