Package: scShapes Version: 1.14.0 Command: /home/biocbuild/R/R/bin/R CMD INSTALL scShapes StartedAt: 2025-10-13 20:16:06 -0000 (Mon, 13 Oct 2025) EndedAt: 2025-10-13 20:16:37 -0000 (Mon, 13 Oct 2025) EllapsedTime: 31.0 seconds RetCode: 0 Status: OK