Package: scShapes Version: 1.14.0 Command: rm -rf scShapes.buildbin-libdir && mkdir scShapes.buildbin-libdir && /Users/biocbuild/BBS/utils/build-universal.sh scShapes_1.14.0.tar.gz /Library/Frameworks/R.framework/Resources/bin/R scShapes.buildbin-libdir StartedAt: 2025-10-15 20:27:00 -0400 (Wed, 15 Oct 2025) EndedAt: 2025-10-15 20:27:10 -0400 (Wed, 15 Oct 2025) EllapsedTime: 10.1 seconds RetCode: 0 Status: OK PackageFile: scShapes_1.14.0.tgz PackageFileSize: 71.39 KiB