Package: scRecover Version: 1.24.0 Command: /home/biocbuild/R/R/bin/R CMD INSTALL scRecover StartedAt: 2025-10-13 20:17:11 -0000 (Mon, 13 Oct 2025) EndedAt: 2025-10-13 20:18:01 -0000 (Mon, 13 Oct 2025) EllapsedTime: 50.3 seconds RetCode: 0 Status: OK