Package: scRecover Version: 1.24.0 Command: /home/biocbuild/R/R/bin/R CMD build --keep-empty-dirs --no-resave-data scRecover StartedAt: 2025-10-14 04:31:22 -0000 (Tue, 14 Oct 2025) EndedAt: 2025-10-14 04:33:55 -0000 (Tue, 14 Oct 2025) EllapsedTime: 153.1 seconds RetCode: 0 Status: OK PackageFile: scRecover_1.24.0.tar.gz PackageFileSize: 1.776 MiB