Package: scRNAseqApp Version: 1.8.0 Command: rm -rf scRNAseqApp.buildbin-libdir && mkdir scRNAseqApp.buildbin-libdir && /Users/biocbuild/BBS/utils/build-universal.sh scRNAseqApp_1.8.0.tar.gz /Library/Frameworks/R.framework/Resources/bin/R scRNAseqApp.buildbin-libdir StartedAt: 2025-10-14 14:44:41 -0400 (Tue, 14 Oct 2025) EndedAt: 2025-10-14 14:47:26 -0400 (Tue, 14 Oct 2025) EllapsedTime: 164.7 seconds RetCode: 0 Status: OK PackageFile: scRNAseqApp_1.8.0.tgz PackageFileSize: 3.555 MiB