Package: scQTLtools Version: 1.0.3 Command: /home/biocbuild/bbs-3.21-bioc/R/bin/R CMD INSTALL scQTLtools StartedAt: 2025-10-15 15:53:06 -0400 (Wed, 15 Oct 2025) EndedAt: 2025-10-15 15:53:47 -0400 (Wed, 15 Oct 2025) EllapsedTime: 41.3 seconds RetCode: 0 Status: OK