Package: scQTLtools Version: 1.0.3 Command: /home/biocbuild/bbs-3.21-bioc/R/bin/R CMD build --keep-empty-dirs --no-resave-data scQTLtools StartedAt: 2025-10-15 19:46:21 -0400 (Wed, 15 Oct 2025) EndedAt: 2025-10-15 19:47:51 -0400 (Wed, 15 Oct 2025) EllapsedTime: 90.0 seconds RetCode: 0 Status: OK PackageFile: scQTLtools_1.0.3.tar.gz PackageFileSize: 8.369 MiB