Package: scQTLtools Version: 1.0.3 Command: /home/biocbuild/R/R/bin/R CMD INSTALL scQTLtools StartedAt: 2025-10-13 21:12:25 -0000 (Mon, 13 Oct 2025) EndedAt: 2025-10-13 21:13:26 -0000 (Mon, 13 Oct 2025) EllapsedTime: 60.4 seconds RetCode: 0 Status: OK