Package: scQTLtools Version: 1.0.3 Command: /home/biocbuild/R/R/bin/R CMD build --keep-empty-dirs --no-resave-data scQTLtools StartedAt: 2025-10-14 04:30:43 -0000 (Tue, 14 Oct 2025) EndedAt: 2025-10-14 04:32:54 -0000 (Tue, 14 Oct 2025) EllapsedTime: 131.1 seconds RetCode: 0 Status: OK PackageFile: scQTLtools_1.0.3.tar.gz PackageFileSize: 8.408 MiB