Package: scQTLtools Version: 1.0.3 Command: /Library/Frameworks/R.framework/Resources/bin/R CMD build --keep-empty-dirs --no-resave-data scQTLtools StartedAt: 2025-10-14 08:59:00 -0400 (Tue, 14 Oct 2025) EndedAt: 2025-10-14 09:00:51 -0400 (Tue, 14 Oct 2025) EllapsedTime: 110.7 seconds RetCode: 0 Status: OK PackageFile: scQTLtools_1.0.3.tar.gz PackageFileSize: 8.521 MiB