Package: scPipe Version: 2.8.0 Command: /home/biocbuild/bbs-3.21-bioc/R/bin/R CMD INSTALL scPipe StartedAt: 2025-10-15 15:36:05 -0400 (Wed, 15 Oct 2025) EndedAt: 2025-10-15 15:38:21 -0400 (Wed, 15 Oct 2025) EllapsedTime: 136.2 seconds RetCode: 0 Status: OK