Package: scPipe Version: 2.8.0 Command: /Library/Frameworks/R.framework/Resources/bin/R CMD INSTALL scPipe StartedAt: 2025-10-13 16:48:55 -0400 (Mon, 13 Oct 2025) EndedAt: 2025-10-13 16:51:14 -0400 (Mon, 13 Oct 2025) EllapsedTime: 138.8 seconds RetCode: 0 Status: OK