Package: scPCA Version: 1.22.0 Command: /home/biocbuild/R/R/bin/R CMD build --keep-empty-dirs --no-resave-data scPCA StartedAt: 2025-10-14 04:30:29 -0000 (Tue, 14 Oct 2025) EndedAt: 2025-10-14 04:38:56 -0000 (Tue, 14 Oct 2025) EllapsedTime: 507.2 seconds RetCode: 0 Status: OK PackageFile: scPCA_1.22.0.tar.gz PackageFileSize: 1.826 MiB