Package: scMultiSim Version: 1.4.0 Command: rm -rf scMultiSim.buildbin-libdir && mkdir scMultiSim.buildbin-libdir && E:\biocbuild\bbs-3.21-bioc\R\bin\R.exe CMD INSTALL --build --library=scMultiSim.buildbin-libdir scMultiSim_1.4.0.tar.gz StartedAt: 2025-08-15 10:14:53 -0400 (Fri, 15 Aug 2025) EndedAt: 2025-08-15 10:16:20 -0400 (Fri, 15 Aug 2025) EllapsedTime: 86.5 seconds RetCode: 0 Status: OK PackageFile: scMultiSim_1.4.0.zip PackageFileSize: 4.446 MiB