Package: scMultiSim Version: 1.4.0 Command: /Library/Frameworks/R.framework/Resources/bin/R CMD INSTALL scMultiSim StartedAt: 2025-10-13 15:43:40 -0400 (Mon, 13 Oct 2025) EndedAt: 2025-10-13 15:44:45 -0400 (Mon, 13 Oct 2025) EllapsedTime: 64.6 seconds RetCode: 0 Status: OK