Package: scMultiSim Version: 1.4.0 Command: /home/biocbuild/R/R/bin/R CMD INSTALL scMultiSim StartedAt: 2025-10-13 20:37:25 -0000 (Mon, 13 Oct 2025) EndedAt: 2025-10-13 20:38:07 -0000 (Mon, 13 Oct 2025) EllapsedTime: 41.9 seconds RetCode: 0 Status: OK