Package: scMultiSim Version: 1.4.0 Command: /home/biocbuild/R/R/bin/R CMD build --keep-empty-dirs --no-resave-data scMultiSim StartedAt: 2025-10-14 04:29:03 -0000 (Tue, 14 Oct 2025) EndedAt: 2025-10-14 04:41:50 -0000 (Tue, 14 Oct 2025) EllapsedTime: 767.4 seconds RetCode: 0 Status: OK PackageFile: scMultiSim_1.4.0.tar.gz PackageFileSize: 4.998 MiB