Package: scMultiSim Version: 1.4.0 Command: /Library/Frameworks/R.framework/Resources/bin/R CMD INSTALL scMultiSim StartedAt: 2025-10-13 16:33:29 -0400 (Mon, 13 Oct 2025) EndedAt: 2025-10-13 16:34:04 -0400 (Mon, 13 Oct 2025) EllapsedTime: 34.8 seconds RetCode: 0 Status: OK