Package: scMultiSim Version: 1.4.0 Command: /Library/Frameworks/R.framework/Resources/bin/R CMD build --keep-empty-dirs --no-resave-data scMultiSim StartedAt: 2025-10-14 08:49:22 -0400 (Tue, 14 Oct 2025) EndedAt: 2025-10-14 09:01:30 -0400 (Tue, 14 Oct 2025) EllapsedTime: 728.4 seconds RetCode: 0 Status: OK PackageFile: scMultiSim_1.4.0.tar.gz PackageFileSize: 5.408 MiB