Package: scMultiSim Version: 1.4.0 Command: rm -rf scMultiSim.buildbin-libdir && mkdir scMultiSim.buildbin-libdir && /Users/biocbuild/BBS/utils/build-universal.sh scMultiSim_1.4.0.tar.gz /Library/Frameworks/R.framework/Resources/bin/R scMultiSim.buildbin-libdir StartedAt: 2025-10-15 20:23:29 -0400 (Wed, 15 Oct 2025) EndedAt: 2025-10-15 20:24:07 -0400 (Wed, 15 Oct 2025) EllapsedTime: 38.0 seconds RetCode: 0 Status: OK PackageFile: scMultiSim_1.4.0.tgz PackageFileSize: 5.778 MiB