Package: scMitoMut Version: 1.4.0 Command: /home/biocbuild/R/R/bin/R CMD INSTALL scMitoMut StartedAt: 2025-10-13 20:20:04 -0000 (Mon, 13 Oct 2025) EndedAt: 2025-10-13 20:20:38 -0000 (Mon, 13 Oct 2025) EllapsedTime: 34.5 seconds RetCode: 0 Status: OK