Package: scMitoMut Version: 1.4.0 Command: /home/biocbuild/R/R/bin/R CMD build --keep-empty-dirs --no-resave-data scMitoMut StartedAt: 2025-10-14 04:28:53 -0000 (Tue, 14 Oct 2025) EndedAt: 2025-10-14 04:29:54 -0000 (Tue, 14 Oct 2025) EllapsedTime: 61.0 seconds RetCode: 0 Status: OK PackageFile: scMitoMut_1.4.0.tar.gz PackageFileSize: 1.214 MiB