Package: scMitoMut Version: 1.4.0 Command: /Library/Frameworks/R.framework/Resources/bin/R CMD INSTALL scMitoMut StartedAt: 2025-10-13 15:20:44 -0400 (Mon, 13 Oct 2025) EndedAt: 2025-10-13 15:21:05 -0400 (Mon, 13 Oct 2025) EllapsedTime: 20.9 seconds RetCode: 0 Status: OK