Package: scMitoMut Version: 1.4.0 Command: /Library/Frameworks/R.framework/Resources/bin/R CMD build --keep-empty-dirs --no-resave-data scMitoMut StartedAt: 2025-10-14 08:48:35 -0400 (Tue, 14 Oct 2025) EndedAt: 2025-10-14 08:49:22 -0400 (Tue, 14 Oct 2025) EllapsedTime: 46.6 seconds RetCode: 0 Status: OK PackageFile: scMitoMut_1.4.0.tar.gz PackageFileSize: 1.188 MiB