Package: scMerge Version: 1.24.0 Command: /home/biocbuild/bbs-3.21-bioc/R/bin/R CMD INSTALL scMerge StartedAt: 2025-10-15 15:55:21 -0400 (Wed, 15 Oct 2025) EndedAt: 2025-10-15 15:56:09 -0400 (Wed, 15 Oct 2025) EllapsedTime: 48.4 seconds RetCode: 0 Status: OK