Package: scMerge Version: 1.24.0 Command: /home/biocbuild/R/R/bin/R CMD INSTALL scMerge StartedAt: 2025-10-13 21:15:42 -0000 (Mon, 13 Oct 2025) EndedAt: 2025-10-13 21:16:51 -0000 (Mon, 13 Oct 2025) EllapsedTime: 68.4 seconds RetCode: 0 Status: OK