Package: scMerge Version: 1.24.0 Command: /Library/Frameworks/R.framework/Resources/bin/R CMD INSTALL scMerge StartedAt: 2025-10-13 18:14:38 -0400 (Mon, 13 Oct 2025) EndedAt: 2025-10-13 18:15:34 -0400 (Mon, 13 Oct 2025) EllapsedTime: 56.6 seconds RetCode: 0 Status: OK