Package: scHiCcompare Version: 1.0.0 Command: /home/biocbuild/bbs-3.21-bioc/R/bin/R CMD INSTALL scHiCcompare StartedAt: 2025-10-15 15:30:59 -0400 (Wed, 15 Oct 2025) EndedAt: 2025-10-15 15:31:28 -0400 (Wed, 15 Oct 2025) EllapsedTime: 28.4 seconds RetCode: 0 Status: OK