Package: scHiCcompare Version: 1.0.0 Command: /home/biocbuild/bbs-3.21-bioc/R/bin/R CMD build --keep-empty-dirs --no-resave-data scHiCcompare StartedAt: 2025-10-15 19:44:06 -0400 (Wed, 15 Oct 2025) EndedAt: 2025-10-15 19:45:00 -0400 (Wed, 15 Oct 2025) EllapsedTime: 54.1 seconds RetCode: 0 Status: OK PackageFile: scHiCcompare_1.0.0.tar.gz PackageFileSize: 1.272 MiB