Package: scHiCcompare Version: 1.0.0 Command: /Library/Frameworks/R.framework/Resources/bin/R CMD build --keep-empty-dirs --no-resave-data scHiCcompare StartedAt: 2025-10-13 22:21:42 -0400 (Mon, 13 Oct 2025) EndedAt: 2025-10-13 22:24:34 -0400 (Mon, 13 Oct 2025) EllapsedTime: 171.5 seconds RetCode: 0 Status: OK PackageFile: scHiCcompare_1.0.0.tar.gz PackageFileSize: 1.279 MiB