Package: scHiCcompare Version: 1.0.0 Command: rm -rf scHiCcompare.buildbin-libdir && mkdir scHiCcompare.buildbin-libdir && /Users/biocbuild/BBS/utils/build-universal.sh scHiCcompare_1.0.0.tar.gz /Library/Frameworks/R.framework/Resources/bin/R scHiCcompare.buildbin-libdir StartedAt: 2025-10-14 14:42:48 -0400 (Tue, 14 Oct 2025) EndedAt: 2025-10-14 14:44:10 -0400 (Tue, 14 Oct 2025) EllapsedTime: 81.8 seconds RetCode: 0 Status: OK PackageFile: scHiCcompare_1.0.0.tgz PackageFileSize: 1.273 MiB