Package: scHiCcompare Version: 1.0.0 Command: /home/biocbuild/R/R/bin/R CMD INSTALL scHiCcompare StartedAt: 2025-10-13 20:46:50 -0000 (Mon, 13 Oct 2025) EndedAt: 2025-10-13 20:47:30 -0000 (Mon, 13 Oct 2025) EllapsedTime: 40.5 seconds RetCode: 0 Status: OK