Package: scHiCcompare Version: 1.0.0 Command: /home/biocbuild/R/R/bin/R CMD build --keep-empty-dirs --no-resave-data scHiCcompare StartedAt: 2025-10-14 04:26:39 -0000 (Tue, 14 Oct 2025) EndedAt: 2025-10-14 04:28:03 -0000 (Tue, 14 Oct 2025) EllapsedTime: 84.0 seconds RetCode: 0 Status: OK PackageFile: scHiCcompare_1.0.0.tar.gz PackageFileSize: 1.308 MiB