Package: scHOT Version: 1.20.1 Command: /home/biocbuild/bbs-3.21-bioc/R/bin/R CMD build --keep-empty-dirs --no-resave-data scHOT StartedAt: 2025-10-15 19:44:09 -0400 (Wed, 15 Oct 2025) EndedAt: 2025-10-15 19:46:12 -0400 (Wed, 15 Oct 2025) EllapsedTime: 123.1 seconds RetCode: 0 Status: OK PackageFile: scHOT_1.20.1.tar.gz PackageFileSize: 2.136 MiB