Package: scHOT Version: 1.20.1 Command: rm -rf scHOT.buildbin-libdir && mkdir scHOT.buildbin-libdir && /Users/biocbuild/BBS/utils/build-universal.sh scHOT_1.20.1.tar.gz /Library/Frameworks/R.framework/Resources/bin/R scHOT.buildbin-libdir StartedAt: 2025-10-14 14:42:53 -0400 (Tue, 14 Oct 2025) EndedAt: 2025-10-14 14:44:13 -0400 (Tue, 14 Oct 2025) EllapsedTime: 79.8 seconds RetCode: 0 Status: OK PackageFile: scHOT_1.20.1.tgz PackageFileSize: 2.699 MiB