Package: scHOT Version: 1.20.1 Command: /home/biocbuild/R/R/bin/R CMD build --keep-empty-dirs --no-resave-data scHOT StartedAt: 2025-10-14 04:26:40 -0000 (Tue, 14 Oct 2025) EndedAt: 2025-10-14 04:29:46 -0000 (Tue, 14 Oct 2025) EllapsedTime: 185.1 seconds RetCode: 0 Status: OK PackageFile: scHOT_1.20.1.tar.gz PackageFileSize: 2.077 MiB