Package: scHOT Version: 1.20.1 Command: /Library/Frameworks/R.framework/Resources/bin/R CMD INSTALL scHOT StartedAt: 2025-10-13 16:30:01 -0400 (Mon, 13 Oct 2025) EndedAt: 2025-10-13 16:30:33 -0400 (Mon, 13 Oct 2025) EllapsedTime: 32.4 seconds RetCode: 0 Status: OK