Package: scHOT Version: 1.20.1 Command: /Library/Frameworks/R.framework/Resources/bin/R CMD build --keep-empty-dirs --no-resave-data scHOT StartedAt: 2025-10-14 08:45:43 -0400 (Tue, 14 Oct 2025) EndedAt: 2025-10-14 08:47:48 -0400 (Tue, 14 Oct 2025) EllapsedTime: 124.8 seconds RetCode: 0 Status: OK PackageFile: scHOT_1.20.1.tar.gz PackageFileSize: 2.315 MiB