Package: scGPS Version: 1.22.0 Command: /home/biocbuild/R/R/bin/R CMD INSTALL scGPS StartedAt: 2025-10-13 20:35:31 -0000 (Mon, 13 Oct 2025) EndedAt: 2025-10-13 20:36:56 -0000 (Mon, 13 Oct 2025) EllapsedTime: 85.1 seconds RetCode: 0 Status: OK