Package: scGPS Version: 1.22.0 Command: /home/biocbuild/R/R/bin/R CMD build --keep-empty-dirs --no-resave-data scGPS StartedAt: 2025-10-14 04:26:02 -0000 (Tue, 14 Oct 2025) EndedAt: 2025-10-14 04:27:58 -0000 (Tue, 14 Oct 2025) EllapsedTime: 116.1 seconds RetCode: 1 Status: ERROR PackageFile: None PackageFileSize: NA