Package: scFeatures Version: 1.8.0 Command: /Library/Frameworks/R.framework/Resources/bin/R CMD INSTALL scFeatures StartedAt: 2025-10-13 16:46:58 -0400 (Mon, 13 Oct 2025) EndedAt: 2025-10-13 16:49:00 -0400 (Mon, 13 Oct 2025) EllapsedTime: 123.0 seconds RetCode: 0 Status: OK