Package: scFeatures Version: 1.8.0 Command: /Library/Frameworks/R.framework/Resources/bin/R CMD build --keep-empty-dirs --no-resave-data scFeatures StartedAt: 2025-10-13 22:20:57 -0400 (Mon, 13 Oct 2025) EndedAt: 2025-10-13 22:25:41 -0400 (Mon, 13 Oct 2025) EllapsedTime: 284.4 seconds RetCode: 0 Status: OK PackageFile: scFeatures_1.8.0.tar.gz PackageFileSize: 2.928 MiB